BEGIN:VCALENDAR
VERSION:2.0
PRODID:-//hacksw/handcal//NONSGML v1.0//EN
BEGIN:VEVENT
DTSTART:20161206T110000
DTEND:20161206T170000
LOCATION:SEPR \n46, Rue Professeur Rochaix \n69003 LYON
ORGANIZER;CN=Juliette Coullet:MAILTO:
SUMMARY:Marché de Noël de la SEPR
DESCRIPTION:\nLa SEPR organise un marché de Noël le mardi 6 décembre 2016, de 11h à 17h. Différents stands proposerons la vente de produits réalisés par les élèves et apprentis de la SEPR\nVous pourrez faire...
URL:https://www.latoilesepr.com/fr/event/marche-de-noel-de-la-sepr/2016/12/06/19
BEGIN:VALARM
TRIGGER:-P0DT1H0M0S
ACTION:DISPLAY
END:VALARM
END:VEVENT
END:VCALENDAR